Package: OncoSimulR Version: 4.2.0 Command: /home/biocbuild/bbs-3.17-bioc/R/bin/R CMD INSTALL OncoSimulR StartedAt: 2023-10-15 15:34:49 -0400 (Sun, 15 Oct 2023) EndedAt: 2023-10-15 15:37:22 -0400 (Sun, 15 Oct 2023) EllapsedTime: 153.5 seconds RetCode: 0 Status: OK