Package: OncoSimulR Version: 4.2.0 Command: /home/biocbuild/bbs-3.17-bioc/R/bin/R CMD build --keep-empty-dirs --no-resave-data OncoSimulR StartedAt: 2023-10-15 17:45:13 -0400 (Sun, 15 Oct 2023) EndedAt: 2023-10-15 17:54:33 -0400 (Sun, 15 Oct 2023) EllapsedTime: 560.1 seconds RetCode: 0 Status: OK PackageFile: OncoSimulR_4.2.0.tar.gz PackageFileSize: 7.194 MiB