Package: OncoScore Version: 1.28.0 Command: /home/biocbuild/bbs-3.17-bioc/R/bin/R CMD build --keep-empty-dirs --no-resave-data OncoScore StartedAt: 2023-10-15 17:44:49 -0400 (Sun, 15 Oct 2023) EndedAt: 2023-10-15 17:46:19 -0400 (Sun, 15 Oct 2023) EllapsedTime: 90.9 seconds RetCode: 0 Status: OK PackageFile: OncoScore_1.28.0.tar.gz PackageFileSize: 858.3 KiB