Package: OSAT Version: 1.48.0 Command: rm -rf OSAT.buildbin-libdir && mkdir OSAT.buildbin-libdir && /Users/biocbuild/BBS/utils/build-universal.sh OSAT_1.48.0.tar.gz /Library/Frameworks/R.framework/Resources/bin/R OSAT.buildbin-libdir StartedAt: 2023-10-16 09:52:57 -0400 (Mon, 16 Oct 2023) EndedAt: 2023-10-16 09:53:11 -0400 (Mon, 16 Oct 2023) EllapsedTime: 13.9 seconds RetCode: 0 Status: OK PackageFile: OSAT_1.48.0.tgz PackageFileSize: 646 KiB