Package: NxtIRFcore Version: 1.6.0 Command: rm -rf NxtIRFcore.buildbin-libdir && mkdir NxtIRFcore.buildbin-libdir && /Users/biocbuild/BBS/utils/build-universal.sh NxtIRFcore_1.6.0.tar.gz /Library/Frameworks/R.framework/Resources/bin/R NxtIRFcore.buildbin-libdir StartedAt: 2023-10-16 09:51:07 -0400 (Mon, 16 Oct 2023) EndedAt: 2023-10-16 09:56:54 -0400 (Mon, 16 Oct 2023) EllapsedTime: 346.5 seconds RetCode: 0 Status: OK PackageFile: NxtIRFcore_1.6.0.tgz PackageFileSize: 3.793 MiB