Package: NanoStringDiff Version: 1.30.0 Command: /home/biocbuild/bbs-3.17-bioc/R/bin/R CMD check --install=check:NanoStringDiff.install-out.txt --library=/home/biocbuild/bbs-3.17-bioc/R/site-library --timings NanoStringDiff_1.30.0.tar.gz StartedAt: 2023-10-15 23:13:31 -0400 (Sun, 15 Oct 2023) EndedAt: 2023-10-15 23:15:36 -0400 (Sun, 15 Oct 2023) EllapsedTime: 125.7 seconds RetCode: 0 Status: WARNINGS CheckDir: NanoStringDiff.Rcheck Warnings: 1