Package: NanoMethViz Version: 2.6.0 Command: /home/biocbuild/bbs-3.17-bioc/R/bin/R CMD INSTALL NanoMethViz StartedAt: 2023-10-15 15:41:45 -0400 (Sun, 15 Oct 2023) EndedAt: 2023-10-15 15:42:51 -0400 (Sun, 15 Oct 2023) EllapsedTime: 66.7 seconds RetCode: 0 Status: OK