Package: MutationalPatterns Version: 3.10.0 Command: chmod a+r MutationalPatterns -R && F:\biocbuild\bbs-3.17-bioc\R\bin\R.exe CMD build --keep-empty-dirs --no-resave-data MutationalPatterns StartedAt: 2023-10-15 20:46:01 -0400 (Sun, 15 Oct 2023) EndedAt: 2023-10-15 20:55:35 -0400 (Sun, 15 Oct 2023) EllapsedTime: 574.1 seconds RetCode: 0 Status: OK PackageFile: MutationalPatterns_3.10.0.tar.gz PackageFileSize: 3.356 MiB