Package: MutationalPatterns Version: 3.10.0 Command: rm -rf MutationalPatterns.buildbin-libdir && mkdir MutationalPatterns.buildbin-libdir && F:\biocbuild\bbs-3.17-bioc\R\bin\R.exe CMD INSTALL --build --library=MutationalPatterns.buildbin-libdir MutationalPatterns_3.10.0.tar.gz StartedAt: 2023-10-16 09:09:38 -0400 (Mon, 16 Oct 2023) EndedAt: 2023-10-16 09:10:12 -0400 (Mon, 16 Oct 2023) EllapsedTime: 33.6 seconds RetCode: 0 Status: OK PackageFile: MutationalPatterns_3.10.0.zip PackageFileSize: 3.889 MiB