Package: MutationalPatterns Version: 3.10.0 Command: /home/biocbuild/bbs-3.17-bioc/R/bin/R CMD check --install=check:MutationalPatterns.install-out.txt --library=/home/biocbuild/bbs-3.17-bioc/R/site-library --timings MutationalPatterns_3.10.0.tar.gz StartedAt: 2023-10-15 23:12:35 -0400 (Sun, 15 Oct 2023) EndedAt: 2023-10-15 23:31:58 -0400 (Sun, 15 Oct 2023) EllapsedTime: 1163.0 seconds RetCode: 0 Status: OK CheckDir: MutationalPatterns.Rcheck Warnings: 0