Package: MultimodalExperiment Version: 1.0.0 Command: rm -rf MultimodalExperiment.buildbin-libdir && mkdir MultimodalExperiment.buildbin-libdir && F:\biocbuild\bbs-3.17-bioc\R\bin\R.exe CMD INSTALL --build --library=MultimodalExperiment.buildbin-libdir MultimodalExperiment_1.0.0.tar.gz StartedAt: 2023-10-16 09:09:15 -0400 (Mon, 16 Oct 2023) EndedAt: 2023-10-16 09:09:53 -0400 (Mon, 16 Oct 2023) EllapsedTime: 38.7 seconds RetCode: 0 Status: OK PackageFile: MultimodalExperiment_1.0.0.zip PackageFileSize: 4.296 MiB