Package: MultimodalExperiment Version: 1.0.0 Command: /Library/Frameworks/R.framework/Resources/bin/R CMD build --keep-empty-dirs --no-resave-data MultimodalExperiment StartedAt: 2023-10-15 19:47:58 -0400 (Sun, 15 Oct 2023) EndedAt: 2023-10-15 19:49:50 -0400 (Sun, 15 Oct 2023) EllapsedTime: 111.5 seconds RetCode: 0 Status: OK PackageFile: MultimodalExperiment_1.0.0.tar.gz PackageFileSize: 2.532 MiB