Package: MultimodalExperiment Version: 1.0.0 Command: rm -rf MultimodalExperiment.buildbin-libdir && mkdir MultimodalExperiment.buildbin-libdir && /Users/biocbuild/BBS/utils/build-universal.sh MultimodalExperiment_1.0.0.tar.gz /Library/Frameworks/R.framework/Resources/bin/R MultimodalExperiment.buildbin-libdir StartedAt: 2023-10-16 09:48:13 -0400 (Mon, 16 Oct 2023) EndedAt: 2023-10-16 09:49:46 -0400 (Mon, 16 Oct 2023) EllapsedTime: 92.7 seconds RetCode: 0 Status: OK PackageFile: MultimodalExperiment_1.0.0.tgz PackageFileSize: 4.297 MiB