Package: MultiDataSet Version: 1.28.0 Command: chmod a+r MultiDataSet -R && F:\biocbuild\bbs-3.17-bioc\R\bin\R.exe CMD build --keep-empty-dirs --no-resave-data MultiDataSet StartedAt: 2023-10-15 20:44:26 -0400 (Sun, 15 Oct 2023) EndedAt: 2023-10-15 20:45:22 -0400 (Sun, 15 Oct 2023) EllapsedTime: 57.0 seconds RetCode: 0 Status: OK PackageFile: MultiDataSet_1.28.0.tar.gz PackageFileSize: 495.9 KiB