Package: MsFeatures Version: 1.8.0 Command: /home/biocbuild/bbs-3.17-bioc/R/bin/R CMD INSTALL MsFeatures StartedAt: 2023-10-15 15:11:44 -0400 (Sun, 15 Oct 2023) EndedAt: 2023-10-15 15:12:02 -0400 (Sun, 15 Oct 2023) EllapsedTime: 17.9 seconds RetCode: 0 Status: OK