Package: MsFeatures Version: 1.8.0 Command: /Library/Frameworks/R.framework/Resources/bin/R CMD INSTALL MsFeatures StartedAt: 2023-10-15 15:14:05 -0400 (Sun, 15 Oct 2023) EndedAt: 2023-10-15 15:15:20 -0400 (Sun, 15 Oct 2023) EllapsedTime: 75.1 seconds RetCode: 0 Status: OK