Package: MsFeatures Version: 1.8.0 Command: rm -rf MsFeatures.buildbin-libdir && mkdir MsFeatures.buildbin-libdir && /Users/biocbuild/BBS/utils/build-universal.sh MsFeatures_1.8.0.tar.gz /Library/Frameworks/R.framework/Resources/bin/R MsFeatures.buildbin-libdir StartedAt: 2023-10-16 09:47:04 -0400 (Mon, 16 Oct 2023) EndedAt: 2023-10-16 09:48:10 -0400 (Mon, 16 Oct 2023) EllapsedTime: 65.5 seconds RetCode: 0 Status: OK PackageFile: MsFeatures_1.8.0.tgz PackageFileSize: 1.203 MiB