Package: MsBackendSql Version: 1.0.1 Command: rm -rf MsBackendSql.buildbin-libdir && mkdir MsBackendSql.buildbin-libdir && /Users/biocbuild/BBS/utils/build-universal.sh MsBackendSql_1.0.1.tar.gz /Library/Frameworks/R.framework/Resources/bin/R MsBackendSql.buildbin-libdir StartedAt: 2023-10-16 09:46:50 -0400 (Mon, 16 Oct 2023) EndedAt: 2023-10-16 09:47:35 -0400 (Mon, 16 Oct 2023) EllapsedTime: 45.6 seconds RetCode: 0 Status: OK PackageFile: MsBackendSql_1.0.1.tgz PackageFileSize: 582.8 KiB