Package: MsBackendRawFileReader Version: 1.6.0 Command: /Library/Frameworks/R.framework/Resources/bin/R CMD check --install=check:MsBackendRawFileReader.install-out.txt --library=/Library/Frameworks/R.framework/Resources/library --no-vignettes --timings MsBackendRawFileReader_1.6.0.tar.gz StartedAt: 2023-10-16 04:17:18 -0400 (Mon, 16 Oct 2023) EndedAt: 2023-10-16 04:25:37 -0400 (Mon, 16 Oct 2023) EllapsedTime: 498.7 seconds RetCode: 0 Status: OK CheckDir: MsBackendRawFileReader.Rcheck Warnings: 0