Package: MsBackendRawFileReader Version: 1.6.0 Command: /Library/Frameworks/R.framework/Resources/bin/R CMD build --keep-empty-dirs --no-resave-data MsBackendRawFileReader StartedAt: 2023-10-15 19:40:58 -0400 (Sun, 15 Oct 2023) EndedAt: 2023-10-15 19:47:36 -0400 (Sun, 15 Oct 2023) EllapsedTime: 397.9 seconds RetCode: 0 Status: OK PackageFile: MsBackendRawFileReader_1.6.0.tar.gz PackageFileSize: 1.473 MiB