Package: MsBackendRawFileReader Version: 1.6.0 Command: rm -rf MsBackendRawFileReader.buildbin-libdir && mkdir MsBackendRawFileReader.buildbin-libdir && /Users/biocbuild/BBS/utils/build-universal.sh MsBackendRawFileReader_1.6.0.tar.gz /Library/Frameworks/R.framework/Resources/bin/R MsBackendRawFileReader.buildbin-libdir StartedAt: 2023-10-16 09:46:48 -0400 (Mon, 16 Oct 2023) EndedAt: 2023-10-16 09:47:26 -0400 (Mon, 16 Oct 2023) EllapsedTime: 37.1 seconds RetCode: 0 Status: OK PackageFile: MsBackendRawFileReader_1.6.0.tgz PackageFileSize: 1.242 MiB