Package: Modstrings Version: 1.16.0 Command: /home/biocbuild/bbs-3.17-bioc/R/bin/R CMD check --install=check:Modstrings.install-out.txt --library=/home/biocbuild/bbs-3.17-bioc/R/site-library --timings Modstrings_1.16.0.tar.gz StartedAt: 2023-10-15 22:58:14 -0400 (Sun, 15 Oct 2023) EndedAt: 2023-10-15 23:00:43 -0400 (Sun, 15 Oct 2023) EllapsedTime: 149.0 seconds RetCode: 0 Status: OK CheckDir: Modstrings.Rcheck Warnings: 0