Package: ModCon Version: 1.8.0 Command: /Library/Frameworks/R.framework/Resources/bin/R CMD check --install=check:ModCon.install-out.txt --library=/Library/Frameworks/R.framework/Resources/library --no-vignettes --timings ModCon_1.8.0.tar.gz StartedAt: 2023-10-16 04:06:55 -0400 (Mon, 16 Oct 2023) EndedAt: 2023-10-16 04:18:33 -0400 (Mon, 16 Oct 2023) EllapsedTime: 698.0 seconds RetCode: 0 Status: OK CheckDir: ModCon.Rcheck Warnings: 0