Package: ModCon Version: 1.8.0 Command: /Library/Frameworks/R.framework/Resources/bin/R CMD build --keep-empty-dirs --no-resave-data ModCon StartedAt: 2023-10-15 19:35:24 -0400 (Sun, 15 Oct 2023) EndedAt: 2023-10-15 19:39:47 -0400 (Sun, 15 Oct 2023) EllapsedTime: 263.1 seconds RetCode: 0 Status: OK PackageFile: ModCon_1.8.0.tar.gz PackageFileSize: 1.912 MiB