Package: MicrobiotaProcess Version: 1.12.4 Command: /home/biocbuild/bbs-3.17-bioc/R/bin/R CMD build --keep-empty-dirs --no-resave-data MicrobiotaProcess StartedAt: 2023-10-15 17:26:26 -0400 (Sun, 15 Oct 2023) EndedAt: 2023-10-15 17:28:59 -0400 (Sun, 15 Oct 2023) EllapsedTime: 152.5 seconds RetCode: 0 Status: OK PackageFile: MicrobiotaProcess_1.12.4.tar.gz PackageFileSize: 4.53 MiB