Package: MetaboCoreUtils Version: 1.8.0 Command: rm -rf MetaboCoreUtils.buildbin-libdir && mkdir MetaboCoreUtils.buildbin-libdir && F:\biocbuild\bbs-3.17-bioc\R\bin\R.exe CMD INSTALL --build --library=MetaboCoreUtils.buildbin-libdir MetaboCoreUtils_1.8.0.tar.gz StartedAt: 2023-10-16 09:03:13 -0400 (Mon, 16 Oct 2023) EndedAt: 2023-10-16 09:03:26 -0400 (Mon, 16 Oct 2023) EllapsedTime: 13.3 seconds RetCode: 0 Status: OK PackageFile: MetaboCoreUtils_1.8.0.zip PackageFileSize: 501.4 KiB