Package: MeasurementError.cor Version: 1.72.0 Command: /home/biocbuild/bbs-3.17-bioc/R/bin/R CMD INSTALL MeasurementError.cor StartedAt: 2023-10-15 15:09:59 -0400 (Sun, 15 Oct 2023) EndedAt: 2023-10-15 15:10:08 -0400 (Sun, 15 Oct 2023) EllapsedTime: 8.2 seconds RetCode: 0 Status: OK