Package: MeasurementError.cor Version: 1.72.0 Command: /home/biocbuild/bbs-3.17-bioc/R/bin/R CMD build --keep-empty-dirs --no-resave-data MeasurementError.cor StartedAt: 2023-10-15 17:20:15 -0400 (Sun, 15 Oct 2023) EndedAt: 2023-10-15 17:20:20 -0400 (Sun, 15 Oct 2023) EllapsedTime: 5.0 seconds RetCode: 0 Status: OK PackageFile: MeasurementError.cor_1.72.0.tar.gz PackageFileSize: 46.58 KiB