Package: MatrixQCvis Version: 1.8.0 Command: /home/biocbuild/bbs-3.17-bioc/R/bin/R CMD build --keep-empty-dirs --no-resave-data MatrixQCvis StartedAt: 2023-10-15 17:18:47 -0400 (Sun, 15 Oct 2023) EndedAt: 2023-10-15 17:21:15 -0400 (Sun, 15 Oct 2023) EllapsedTime: 148.1 seconds RetCode: 0 Status: OK PackageFile: MatrixQCvis_1.8.0.tar.gz PackageFileSize: 4.354 MiB