Package: MatrixGenerics Version: 1.12.3 Command: rm -rf MatrixGenerics.buildbin-libdir && mkdir MatrixGenerics.buildbin-libdir && /Users/biocbuild/BBS/utils/build-universal.sh MatrixGenerics_1.12.3.tar.gz /Library/Frameworks/R.framework/Resources/bin/R MatrixGenerics.buildbin-libdir StartedAt: 2023-10-16 09:40:07 -0400 (Mon, 16 Oct 2023) EndedAt: 2023-10-16 09:40:24 -0400 (Mon, 16 Oct 2023) EllapsedTime: 17.0 seconds RetCode: 0 Status: OK PackageFile: MatrixGenerics_1.12.3.tgz PackageFileSize: 415.3 KiB