Package: MassSpecWavelet Version: 1.66.0 Command: /home/biocbuild/bbs-3.17-bioc/R/bin/R CMD build --keep-empty-dirs --no-resave-data MassSpecWavelet StartedAt: 2023-10-15 17:18:40 -0400 (Sun, 15 Oct 2023) EndedAt: 2023-10-15 17:19:25 -0400 (Sun, 15 Oct 2023) EllapsedTime: 45.4 seconds RetCode: 0 Status: OK PackageFile: MassSpecWavelet_1.66.0.tar.gz PackageFileSize: 1.877 MiB