Package: MWASTools Version: 1.24.0 Command: /home/biocbuild/bbs-3.17-bioc/R/bin/R CMD build --keep-empty-dirs --no-resave-data MWASTools StartedAt: 2023-10-15 17:37:01 -0400 (Sun, 15 Oct 2023) EndedAt: 2023-10-15 17:37:58 -0400 (Sun, 15 Oct 2023) EllapsedTime: 57.8 seconds RetCode: 0 Status: OK PackageFile: MWASTools_1.24.0.tar.gz PackageFileSize: 2.583 MiB