Package: MSstatsLOBD Version: 1.8.0 Command: /home/biocbuild/bbs-3.17-bioc/R/bin/R CMD build --keep-empty-dirs --no-resave-data MSstatsLOBD StartedAt: 2023-10-15 17:34:56 -0400 (Sun, 15 Oct 2023) EndedAt: 2023-10-15 17:35:15 -0400 (Sun, 15 Oct 2023) EllapsedTime: 18.9 seconds RetCode: 0 Status: OK PackageFile: MSstatsLOBD_1.8.0.tar.gz PackageFileSize: 281.5 KiB