Package: MOSim Version: 1.14.0 Command: /home/biocbuild/bbs-3.17-bioc/R/bin/R CMD INSTALL MOSim StartedAt: 2023-10-15 15:13:53 -0400 (Sun, 15 Oct 2023) EndedAt: 2023-10-15 15:14:09 -0400 (Sun, 15 Oct 2023) EllapsedTime: 15.5 seconds RetCode: 0 Status: OK