Package: MOSim Version: 1.14.0 Command: /home/biocbuild/bbs-3.17-bioc/R/bin/R CMD build --keep-empty-dirs --no-resave-data MOSim StartedAt: 2023-10-15 17:31:09 -0400 (Sun, 15 Oct 2023) EndedAt: 2023-10-15 17:36:59 -0400 (Sun, 15 Oct 2023) EllapsedTime: 350.0 seconds RetCode: 0 Status: OK PackageFile: MOSim_1.14.0.tar.gz PackageFileSize: 4.549 MiB