Package: MMDiff2 Version: 1.28.0 Command: F:\biocbuild\bbs-3.17-bioc\R\bin\R.exe CMD INSTALL MMDiff2 StartedAt: 2023-10-15 16:23:30 -0400 (Sun, 15 Oct 2023) EndedAt: 2023-10-15 16:24:13 -0400 (Sun, 15 Oct 2023) EllapsedTime: 42.7 seconds RetCode: 0 Status: OK