Package: MMDiff2 Version: 1.28.0 Command: chmod a+r MMDiff2 -R && F:\biocbuild\bbs-3.17-bioc\R\bin\R.exe CMD build --keep-empty-dirs --no-resave-data MMDiff2 StartedAt: 2023-10-15 20:31:59 -0400 (Sun, 15 Oct 2023) EndedAt: 2023-10-15 20:34:40 -0400 (Sun, 15 Oct 2023) EllapsedTime: 160.6 seconds RetCode: 0 Status: OK PackageFile: MMDiff2_1.28.0.tar.gz PackageFileSize: 2.869 MiB