Package: MMDiff2 Version: 1.28.0 Command: rm -rf MMDiff2.buildbin-libdir && mkdir MMDiff2.buildbin-libdir && F:\biocbuild\bbs-3.17-bioc\R\bin\R.exe CMD INSTALL --build --library=MMDiff2.buildbin-libdir MMDiff2_1.28.0.tar.gz StartedAt: 2023-10-16 09:06:27 -0400 (Mon, 16 Oct 2023) EndedAt: 2023-10-16 09:07:18 -0400 (Mon, 16 Oct 2023) EllapsedTime: 51.6 seconds RetCode: 0 Status: OK PackageFile: MMDiff2_1.28.0.zip PackageFileSize: 3.078 MiB