Package: MMDiff2 Version: 1.28.0 Command: /home/biocbuild/bbs-3.17-bioc/R/bin/R CMD build --keep-empty-dirs --no-resave-data MMDiff2 StartedAt: 2023-10-15 17:29:11 -0400 (Sun, 15 Oct 2023) EndedAt: 2023-10-15 17:30:51 -0400 (Sun, 15 Oct 2023) EllapsedTime: 100.5 seconds RetCode: 0 Status: OK PackageFile: MMDiff2_1.28.0.tar.gz PackageFileSize: 2.868 MiB