Package: MLInterfaces Version: 1.80.0 Command: /home/biocbuild/bbs-3.17-bioc/R/bin/R CMD build --keep-empty-dirs --no-resave-data MLInterfaces StartedAt: 2023-10-15 17:28:58 -0400 (Sun, 15 Oct 2023) EndedAt: 2023-10-15 17:30:04 -0400 (Sun, 15 Oct 2023) EllapsedTime: 66.5 seconds RetCode: 0 Status: OK PackageFile: MLInterfaces_1.80.0.tar.gz PackageFileSize: 2.387 MiB