Package: MIMOSA Version: 1.37.0 Command: rm -rf MIMOSA.buildbin-libdir && mkdir MIMOSA.buildbin-libdir && /Users/biocbuild/BBS/utils/build-universal.sh MIMOSA_1.37.0.tar.gz /Library/Frameworks/R.framework/Resources/bin/R MIMOSA.buildbin-libdir StartedAt: 2023-01-16 09:10:35 -0500 (Mon, 16 Jan 2023) EndedAt: 2023-01-16 09:12:49 -0500 (Mon, 16 Jan 2023) EllapsedTime: 134.4 seconds RetCode: 0 Status: OK PackageFile: MIMOSA_1.37.0.tgz PackageFileSize: 617.8 KiB