Package: M3C Version: 1.22.0 Command: /home/biocbuild/bbs-3.17-bioc/R/bin/R CMD build --keep-empty-dirs --no-resave-data M3C StartedAt: 2023-10-15 17:16:51 -0400 (Sun, 15 Oct 2023) EndedAt: 2023-10-15 17:17:33 -0400 (Sun, 15 Oct 2023) EllapsedTime: 42.6 seconds RetCode: 0 Status: OK PackageFile: M3C_1.22.0.tar.gz PackageFileSize: 589.3 KiB