Package: M3C Version: 1.22.0 Command: /Library/Frameworks/R.framework/Resources/bin/R CMD build --keep-empty-dirs --no-resave-data M3C StartedAt: 2023-10-15 19:11:48 -0400 (Sun, 15 Oct 2023) EndedAt: 2023-10-15 19:13:45 -0400 (Sun, 15 Oct 2023) EllapsedTime: 117.4 seconds RetCode: 0 Status: OK PackageFile: M3C_1.22.0.tar.gz PackageFileSize: 588.7 KiB