Package: KnowSeq Version: 1.14.1 Command: /home/biocbuild/bbs-3.17-bioc/R/bin/R CMD INSTALL KnowSeq StartedAt: 2023-10-15 15:40:23 -0400 (Sun, 15 Oct 2023) EndedAt: 2023-10-15 15:40:55 -0400 (Sun, 15 Oct 2023) EllapsedTime: 31.6 seconds RetCode: 0 Status: OK