Package: IsoformSwitchAnalyzeR Version: 2.0.1 Command: /home/biocbuild/bbs-3.17-bioc/R/bin/R CMD INSTALL IsoformSwitchAnalyzeR StartedAt: 2023-10-15 15:51:28 -0400 (Sun, 15 Oct 2023) EndedAt: 2023-10-15 15:52:21 -0400 (Sun, 15 Oct 2023) EllapsedTime: 53.5 seconds RetCode: 0 Status: OK