Package: IsoCorrectoRGUI Version: 1.16.0 Command: rm -rf IsoCorrectoRGUI.buildbin-libdir && mkdir IsoCorrectoRGUI.buildbin-libdir && F:\biocbuild\bbs-3.17-bioc\R\bin\R.exe CMD INSTALL --build --library=IsoCorrectoRGUI.buildbin-libdir IsoCorrectoRGUI_1.16.0.tar.gz StartedAt: 2023-10-16 08:59:02 -0400 (Mon, 16 Oct 2023) EndedAt: 2023-10-16 08:59:11 -0400 (Mon, 16 Oct 2023) EllapsedTime: 9.4 seconds RetCode: 0 Status: OK PackageFile: IsoCorrectoRGUI_1.16.0.zip PackageFileSize: 484.1 KiB