Package: IntOMICS Version: 1.0.0 Command: F:\biocbuild\bbs-3.17-bioc\R\bin\R.exe CMD INSTALL IntOMICS StartedAt: 2023-10-15 16:59:56 -0400 (Sun, 15 Oct 2023) EndedAt: 2023-10-15 17:00:38 -0400 (Sun, 15 Oct 2023) EllapsedTime: 42.5 seconds RetCode: 0 Status: OK