Package: IntOMICS Version: 1.0.0 Command: rm -rf IntOMICS.buildbin-libdir && mkdir IntOMICS.buildbin-libdir && F:\biocbuild\bbs-3.17-bioc\R\bin\R.exe CMD INSTALL --build --library=IntOMICS.buildbin-libdir IntOMICS_1.0.0.tar.gz StartedAt: 2023-10-16 08:58:12 -0400 (Mon, 16 Oct 2023) EndedAt: 2023-10-16 08:58:51 -0400 (Mon, 16 Oct 2023) EllapsedTime: 39.5 seconds RetCode: 0 Status: OK PackageFile: IntOMICS_1.0.0.zip PackageFileSize: 2.571 MiB