Package: InPAS Version: 2.8.0 Command: /home/biocbuild/bbs-3.17-bioc/R/bin/R CMD INSTALL InPAS StartedAt: 2023-10-15 15:23:17 -0400 (Sun, 15 Oct 2023) EndedAt: 2023-10-15 15:24:03 -0400 (Sun, 15 Oct 2023) EllapsedTime: 46.4 seconds RetCode: 0 Status: OK