Package: InPAS Version: 2.8.0 Command: /home/biocbuild/bbs-3.17-bioc/R/bin/R CMD build --keep-empty-dirs --no-resave-data InPAS StartedAt: 2023-10-15 17:10:48 -0400 (Sun, 15 Oct 2023) EndedAt: 2023-10-15 17:13:37 -0400 (Sun, 15 Oct 2023) EllapsedTime: 168.5 seconds RetCode: 0 Status: OK PackageFile: InPAS_2.8.0.tar.gz PackageFileSize: 1.418 MiB